BEGIN:VCALENDAR
VERSION:2.0
PRODID: -//Q4 Inc.//EN
METHOD:PUBLISH
BEGIN:VTIMEZONE
TZID:America/New_York
X-LIC-LOCATION:America/New_York
BEGIN:DAYLIGHT
TZOFFSETFROM:-0500
TZOFFSETTO:-0400
TZNAME:EDT
DTSTART:19700308T020000
RRULE:FREQ=YEARLY;BYMONTH=3;BYDAY=2SU
END:DAYLIGHT
BEGIN:STANDARD
TZOFFSETFROM:-0400
TZOFFSETTO:-0500
TZNAME:EST
DTSTART:19701101T020000
RRULE:FREQ=YEARLY;BYMONTH=11;BYDAY=1SU
END:STANDARD
END:VTIMEZONE
BEGIN:VEVENT
ORGANIZER:MAILTO:investor_relations@organon.com
DTSTART;TZID="America/New_York":20241031T083000
DTEND;TZID="America/New_York":20241031T093000
LOCATION:
UID:1dd2df77-ddec-4b90-8dc6-b972948f0120
DTSTAMP:20260423T173801
SUMMARY:Organon Q3 2024 Earnings Call and Webcast
DESCRIPTION: View More Information: https://organon2021tf.q4web.com/events-presentation/event-details/2024/Organon-Q3-2024-Earnings-Call-and-Webcast/default.aspx
URL;VALUE=URI:https://organon2021tf.q4web.com/events-presentation/event-details/2024/Organon-Q3-2024-Earnings-Call-and-Webcast/default.aspx
PRIORITY:5
CLASS:PUBLIC
END:VEVENT
END:VCALENDAR
